Package: gDRstyle Version: 1.5.3 Command: /home/biocbuild/bbs-3.21-bioc/R/bin/R CMD INSTALL gDRstyle StartedAt: 2025-02-20 15:23:15 -0500 (Thu, 20 Feb 2025) EndedAt: 2025-02-20 15:23:18 -0500 (Thu, 20 Feb 2025) EllapsedTime: 2.9 seconds RetCode: 0 Status: OK