Package: gDRstyle Version: 1.5.3 Command: /Library/Frameworks/R.framework/Resources/bin/R CMD INSTALL gDRstyle StartedAt: 2025-02-20 15:25:04 -0500 (Thu, 20 Feb 2025) EndedAt: 2025-02-20 15:25:10 -0500 (Thu, 20 Feb 2025) EllapsedTime: 5.3 seconds RetCode: 0 Status: OK