Package: gDRstyle Version: 1.5.3 Command: /Library/Frameworks/R.framework/Resources/bin/R CMD check --install=check:gDRstyle.install-out.txt --library=/Library/Frameworks/R.framework/Resources/library --no-vignettes --timings gDRstyle_1.5.3.tar.gz StartedAt: 2025-02-20 20:33:45 -0500 (Thu, 20 Feb 2025) EndedAt: 2025-02-20 20:35:17 -0500 (Thu, 20 Feb 2025) EllapsedTime: 92.1 seconds RetCode: 0 Status: WARNINGS CheckDir: gDRstyle.Rcheck Warnings: 1