Package: gDRstyle Version: 1.5.3 Command: /Library/Frameworks/R.framework/Resources/bin/R CMD build --keep-empty-dirs --no-resave-data gDRstyle StartedAt: 2025-02-20 16:45:29 -0500 (Thu, 20 Feb 2025) EndedAt: 2025-02-20 16:45:39 -0500 (Thu, 20 Feb 2025) EllapsedTime: 10.3 seconds RetCode: 0 Status: OK PackageFile: gDRstyle_1.5.3.tar.gz PackageFileSize: 597.9 KiB