Package: gDRstyle Version: 1.5.2 Command: /home/biocbuild/R/R/bin/R CMD build --keep-empty-dirs --no-resave-data gDRstyle StartedAt: 2025-01-28 23:02:42 -0000 (Tue, 28 Jan 2025) EndedAt: 2025-01-28 23:02:52 -0000 (Tue, 28 Jan 2025) EllapsedTime: 10.0 seconds RetCode: 0 Status: OK PackageFile: gDRstyle_1.5.2.tar.gz PackageFileSize: 730 KiB