Package: gDRimport Version: 1.5.8 Command: chmod a+r gDRimport -R && E:\biocbuild\bbs-3.21-bioc\R\bin\R.exe CMD build --keep-empty-dirs --no-resave-data gDRimport StartedAt: 2025-02-20 18:53:07 -0500 (Thu, 20 Feb 2025) EndedAt: 2025-02-20 18:54:34 -0500 (Thu, 20 Feb 2025) EllapsedTime: 87.6 seconds RetCode: 0 Status: OK PackageFile: gDRimport_1.5.8.tar.gz PackageFileSize: 3.009 MiB