Package: gDRimport Version: 1.5.8 Command: rm -rf gDRimport.buildbin-libdir && mkdir gDRimport.buildbin-libdir && E:\biocbuild\bbs-3.21-bioc\R\bin\R.exe CMD INSTALL --build --library=gDRimport.buildbin-libdir gDRimport_1.5.8.tar.gz StartedAt: 2025-02-21 08:08:26 -0500 (Fri, 21 Feb 2025) EndedAt: 2025-02-21 08:09:45 -0500 (Fri, 21 Feb 2025) EllapsedTime: 78.6 seconds RetCode: 0 Status: OK PackageFile: gDRimport_1.5.8.zip PackageFileSize: 3.466 MiB