Package: gDRimport Version: 1.5.8 Command: /home/biocbuild/bbs-3.21-bioc/R/bin/R CMD build --keep-empty-dirs --no-resave-data gDRimport StartedAt: 2025-02-20 17:31:13 -0500 (Thu, 20 Feb 2025) EndedAt: 2025-02-20 17:32:01 -0500 (Thu, 20 Feb 2025) EllapsedTime: 48.0 seconds RetCode: 0 Status: OK PackageFile: gDRimport_1.5.8.tar.gz PackageFileSize: 3.009 MiB