Package: gDRimport Version: 1.5.8 Command: /Library/Frameworks/R.framework/Resources/bin/R CMD INSTALL gDRimport StartedAt: 2025-02-20 15:40:47 -0500 (Thu, 20 Feb 2025) EndedAt: 2025-02-20 15:41:21 -0500 (Thu, 20 Feb 2025) EllapsedTime: 33.7 seconds RetCode: 0 Status: OK