Package: gDRimport Version: 1.5.8 Command: /Library/Frameworks/R.framework/Resources/bin/R CMD check --install=check:gDRimport.install-out.txt --library=/Library/Frameworks/R.framework/Resources/library --no-vignettes --timings gDRimport_1.5.8.tar.gz StartedAt: 2025-02-20 20:33:39 -0500 (Thu, 20 Feb 2025) EndedAt: 2025-02-20 20:37:10 -0500 (Thu, 20 Feb 2025) EllapsedTime: 210.8 seconds RetCode: 0 Status: OK CheckDir: gDRimport.Rcheck Warnings: 0