Package: gDRimport Version: 1.5.8 Maintainer: Arkadiusz Gladki MaintainerEmail: gladki.arkadiusz at gmail.com git_url: https://git.bioconductor.org/packages/gDRimport git_branch: devel git_last_commit: 9d140af git_last_commit_date: 2025-02-19 06:57:15 -0500 (Wed, 19 Feb 2025)