Package: gDRcore Version: 1.5.4 Command: E:\biocbuild\bbs-3.21-bioc\R\bin\R.exe CMD INSTALL gDRcore StartedAt: 2025-02-19 16:36:54 -0500 (Wed, 19 Feb 2025) EndedAt: 2025-02-19 16:37:36 -0500 (Wed, 19 Feb 2025) EllapsedTime: 42.3 seconds RetCode: 0 Status: OK