Package: gDRcore Version: 1.5.4 Command: chmod a+r gDRcore -R && E:\biocbuild\bbs-3.21-bioc\R\bin\R.exe CMD build --keep-empty-dirs --no-resave-data gDRcore StartedAt: 2025-02-19 18:51:03 -0500 (Wed, 19 Feb 2025) EndedAt: 2025-02-19 18:52:02 -0500 (Wed, 19 Feb 2025) EllapsedTime: 59.1 seconds RetCode: 0 Status: OK PackageFile: gDRcore_1.5.4.tar.gz PackageFileSize: 1.09 MiB