Package: gDRcore Version: 1.5.4 Command: /home/biocbuild/bbs-3.21-bioc/R/bin/R CMD check --install=check:gDRcore.install-out.txt --library=/home/biocbuild/bbs-3.21-bioc/R/site-library --timings gDRcore_1.5.4.tar.gz StartedAt: 2025-02-19 22:25:01 -0500 (Wed, 19 Feb 2025) EndedAt: 2025-02-19 22:30:37 -0500 (Wed, 19 Feb 2025) EllapsedTime: 335.5 seconds RetCode: 0 Status: OK CheckDir: gDRcore.Rcheck Warnings: 0