Package: gDRcore Version: 1.5.4 Command: /home/biocbuild/bbs-3.21-bioc/R/bin/R CMD build --keep-empty-dirs --no-resave-data gDRcore StartedAt: 2025-02-19 17:19:24 -0500 (Wed, 19 Feb 2025) EndedAt: 2025-02-19 17:20:04 -0500 (Wed, 19 Feb 2025) EllapsedTime: 40.1 seconds RetCode: 0 Status: OK PackageFile: gDRcore_1.5.4.tar.gz PackageFileSize: 1.09 MiB