Package: gDR Version: 1.5.1 Command: E:\biocbuild\bbs-3.21-bioc\R\bin\R.exe CMD INSTALL gDR StartedAt: 2025-02-19 16:53:40 -0500 (Wed, 19 Feb 2025) EndedAt: 2025-02-19 16:54:09 -0500 (Wed, 19 Feb 2025) EllapsedTime: 29.6 seconds RetCode: 0 Status: OK