Package: gDR Version: 1.5.1 Command: /home/biocbuild/bbs-3.21-bioc/R/bin/R CMD build --keep-empty-dirs --no-resave-data gDR StartedAt: 2025-02-19 17:19:23 -0500 (Wed, 19 Feb 2025) EndedAt: 2025-02-19 17:20:12 -0500 (Wed, 19 Feb 2025) EllapsedTime: 49.1 seconds RetCode: 0 Status: OK PackageFile: gDR_1.5.1.tar.gz PackageFileSize: 276.7 KiB