Package: gDR Version: 1.5.1 Command: /Library/Frameworks/R.framework/Resources/bin/R CMD INSTALL gDR StartedAt: 2025-02-19 15:27:12 -0500 (Wed, 19 Feb 2025) EndedAt: 2025-02-19 15:27:22 -0500 (Wed, 19 Feb 2025) EllapsedTime: 9.5 seconds RetCode: 0 Status: OK