Package: gDNAx Version: 1.5.1 Command: E:\biocbuild\bbs-3.21-bioc\R\bin\R.exe CMD INSTALL gDNAx StartedAt: 2025-02-20 16:39:56 -0500 (Thu, 20 Feb 2025) EndedAt: 2025-02-20 16:40:52 -0500 (Thu, 20 Feb 2025) EllapsedTime: 56.4 seconds RetCode: 0 Status: OK