Package: gDNAx Version: 1.5.1 Command: chmod a+r gDNAx -R && E:\biocbuild\bbs-3.21-bioc\R\bin\R.exe CMD build --keep-empty-dirs --no-resave-data gDNAx StartedAt: 2025-02-20 18:52:41 -0500 (Thu, 20 Feb 2025) EndedAt: 2025-02-20 18:54:15 -0500 (Thu, 20 Feb 2025) EllapsedTime: 93.7 seconds RetCode: 1 Status: ERROR PackageFile: None PackageFileSize: NA