Package: gDNAx Version: 1.5.1 Command: /home/biocbuild/bbs-3.21-bioc/R/bin/R CMD INSTALL gDNAx StartedAt: 2025-02-20 16:07:51 -0500 (Thu, 20 Feb 2025) EndedAt: 2025-02-20 16:08:35 -0500 (Thu, 20 Feb 2025) EllapsedTime: 43.8 seconds RetCode: 0 Status: OK