Package: gDNAx Version: 1.5.1 Command: /home/biocbuild/bbs-3.21-bioc/R/bin/R CMD check --install=check:gDNAx.install-out.txt --library=/home/biocbuild/bbs-3.21-bioc/R/site-library --timings gDNAx_1.5.1.tar.gz StartedAt: 2025-02-20 22:08:34 -0500 (Thu, 20 Feb 2025) EndedAt: 2025-02-20 22:23:49 -0500 (Thu, 20 Feb 2025) EllapsedTime: 915.2 seconds RetCode: 0 Status: OK CheckDir: gDNAx.Rcheck Warnings: 0