Package: gDNAx Version: 1.5.1 Command: /home/biocbuild/R/R/bin/R CMD INSTALL gDNAx StartedAt: 2025-01-29 19:57:26 -0000 (Wed, 29 Jan 2025) EndedAt: 2025-01-29 19:58:27 -0000 (Wed, 29 Jan 2025) EllapsedTime: 61.1 seconds RetCode: 0 Status: OK