Package: gDNAx Version: 1.5.1 Command: /Library/Frameworks/R.framework/Resources/bin/R CMD INSTALL gDNAx StartedAt: 2025-02-20 15:11:33 -0500 (Thu, 20 Feb 2025) EndedAt: 2025-02-20 15:11:52 -0500 (Thu, 20 Feb 2025) EllapsedTime: 18.5 seconds RetCode: 0 Status: OK