Package: gDNAx Version: 1.5.1 Command: /Library/Frameworks/R.framework/Resources/bin/R CMD check --install=check:gDNAx.install-out.txt --library=/Library/Frameworks/R.framework/Resources/library --no-vignettes --timings gDNAx_1.5.1.tar.gz StartedAt: 2025-02-20 19:21:43 -0500 (Thu, 20 Feb 2025) EndedAt: 2025-02-20 19:27:21 -0500 (Thu, 20 Feb 2025) EllapsedTime: 338.1 seconds RetCode: 0 Status: OK CheckDir: gDNAx.Rcheck Warnings: 0