Package: gDNAx Version: 1.5.1 Command: rm -rf gDNAx.buildbin-libdir && mkdir gDNAx.buildbin-libdir && /Users/biocbuild/BBS/utils/build-universal.sh gDNAx_1.5.1.tar.gz /Library/Frameworks/R.framework/Resources/bin/R gDNAx.buildbin-libdir StartedAt: 2025-02-20 22:19:39 -0500 (Thu, 20 Feb 2025) EndedAt: 2025-02-20 22:19:58 -0500 (Thu, 20 Feb 2025) EllapsedTime: 19.4 seconds RetCode: 0 Status: OK PackageFile: gDNAx_1.5.1.tgz PackageFileSize: 1.105 MiB