Package: funtooNorm Version: 1.31.0 Command: /home/biocbuild/bbs-3.21-bioc/R/bin/R CMD check --install=check:funtooNorm.install-out.txt --library=/home/biocbuild/bbs-3.21-bioc/R/site-library --timings funtooNorm_1.31.0.tar.gz StartedAt: 2025-02-20 22:06:29 -0500 (Thu, 20 Feb 2025) EndedAt: 2025-02-20 22:13:30 -0500 (Thu, 20 Feb 2025) EllapsedTime: 420.6 seconds RetCode: 0 Status: WARNINGS CheckDir: funtooNorm.Rcheck Warnings: 2