Package: funtooNorm Version: 1.31.0 Command: /Library/Frameworks/R.framework/Resources/bin/R CMD INSTALL funtooNorm StartedAt: 2025-02-20 15:27:20 -0500 (Thu, 20 Feb 2025) EndedAt: 2025-02-20 15:27:38 -0500 (Thu, 20 Feb 2025) EllapsedTime: 17.9 seconds RetCode: 0 Status: OK