Package: funOmics Version: 1.1.0 Command: E:\biocbuild\bbs-3.21-bioc\R\bin\R.exe CMD INSTALL funOmics StartedAt: 2025-02-17 15:44:37 -0500 (Mon, 17 Feb 2025) EndedAt: 2025-02-17 15:44:57 -0500 (Mon, 17 Feb 2025) EllapsedTime: 20.0 seconds RetCode: 0 Status: OK