Package: funOmics Version: 1.1.0 Command: chmod a+r funOmics -R && E:\biocbuild\bbs-3.21-bioc\R\bin\R.exe CMD build --keep-empty-dirs --no-resave-data funOmics StartedAt: 2025-02-17 18:40:39 -0500 (Mon, 17 Feb 2025) EndedAt: 2025-02-17 18:46:58 -0500 (Mon, 17 Feb 2025) EllapsedTime: 379.0 seconds RetCode: 0 Status: OK PackageFile: funOmics_1.1.0.tar.gz PackageFileSize: 52.42 KiB