Package: funOmics Version: 1.1.0 Command: rm -rf funOmics.buildbin-libdir && mkdir funOmics.buildbin-libdir && E:\biocbuild\bbs-3.21-bioc\R\bin\R.exe CMD INSTALL --build --library=funOmics.buildbin-libdir funOmics_1.1.0.tar.gz StartedAt: 2025-02-18 07:22:41 -0500 (Tue, 18 Feb 2025) EndedAt: 2025-02-18 07:23:01 -0500 (Tue, 18 Feb 2025) EllapsedTime: 20.4 seconds RetCode: 0 Status: OK PackageFile: funOmics_1.1.0.zip PackageFileSize: 73.91 KiB