Package: funOmics Version: 1.1.0 Command: /home/biocbuild/R/R/bin/R CMD INSTALL funOmics StartedAt: 2025-01-29 20:00:48 -0000 (Wed, 29 Jan 2025) EndedAt: 2025-01-29 20:01:10 -0000 (Wed, 29 Jan 2025) EllapsedTime: 22.7 seconds RetCode: 0 Status: OK