Package: funOmics Version: 1.1.0 Command: /Library/Frameworks/R.framework/Resources/bin/R CMD INSTALL funOmics StartedAt: 2025-02-17 15:13:12 -0500 (Mon, 17 Feb 2025) EndedAt: 2025-02-17 15:13:20 -0500 (Mon, 17 Feb 2025) EllapsedTime: 7.3 seconds RetCode: 0 Status: OK