Package: funOmics Version: 1.1.0 Command: /Library/Frameworks/R.framework/Resources/bin/R CMD build --keep-empty-dirs --no-resave-data funOmics StartedAt: 2025-02-17 16:21:25 -0500 (Mon, 17 Feb 2025) EndedAt: 2025-02-17 16:24:05 -0500 (Mon, 17 Feb 2025) EllapsedTime: 159.7 seconds RetCode: 0 Status: OK PackageFile: funOmics_1.1.0.tar.gz PackageFileSize: 52.5 KiB