Package: funOmics Version: 1.1.0 Command: rm -rf funOmics.buildbin-libdir && mkdir funOmics.buildbin-libdir && /Users/biocbuild/BBS/utils/build-universal.sh funOmics_1.1.0.tar.gz /Library/Frameworks/R.framework/Resources/bin/R funOmics.buildbin-libdir StartedAt: 2025-02-17 22:17:56 -0500 (Mon, 17 Feb 2025) EndedAt: 2025-02-17 22:18:04 -0500 (Mon, 17 Feb 2025) EllapsedTime: 8.1 seconds RetCode: 0 Status: OK PackageFile: funOmics_1.1.0.tgz PackageFileSize: 71.28 KiB