Package: frmaTools Version: 1.59.0 Command: rm -rf frmaTools.buildbin-libdir && mkdir frmaTools.buildbin-libdir && E:\biocbuild\bbs-3.21-bioc\R\bin\R.exe CMD INSTALL --build --library=frmaTools.buildbin-libdir frmaTools_1.59.0.tar.gz StartedAt: 2025-02-21 08:07:45 -0500 (Fri, 21 Feb 2025) EndedAt: 2025-02-21 08:07:52 -0500 (Fri, 21 Feb 2025) EllapsedTime: 7.4 seconds RetCode: 0 Status: OK PackageFile: frmaTools_1.59.0.zip PackageFileSize: 105.9 KiB