Package: frmaTools Version: 1.59.0 Command: /Library/Frameworks/R.framework/Resources/bin/R CMD build --keep-empty-dirs --no-resave-data frmaTools StartedAt: 2025-02-20 16:43:56 -0500 (Thu, 20 Feb 2025) EndedAt: 2025-02-20 16:44:17 -0500 (Thu, 20 Feb 2025) EllapsedTime: 20.5 seconds RetCode: 0 Status: OK PackageFile: frmaTools_1.59.0.tar.gz PackageFileSize: 157.2 KiB