Package: frma Version: 1.59.0 Command: rm -rf frma.buildbin-libdir && mkdir frma.buildbin-libdir && E:\biocbuild\bbs-3.21-bioc\R\bin\R.exe CMD INSTALL --build --library=frma.buildbin-libdir frma_1.59.0.tar.gz StartedAt: 2025-02-20 07:49:09 -0500 (Thu, 20 Feb 2025) EndedAt: 2025-02-20 07:49:52 -0500 (Thu, 20 Feb 2025) EllapsedTime: 42.6 seconds RetCode: 0 Status: OK PackageFile: frma_1.59.0.zip PackageFileSize: 595 KiB