############################################################################## ############################################################################## ### ### Running command: ### ### /home/biocbuild/bbs-3.21-bioc/R/bin/R CMD build --keep-empty-dirs --no-resave-data frma ### ############################################################################## ############################################################################## * checking for file ‘frma/DESCRIPTION’ ... OK * preparing ‘frma’: * checking DESCRIPTION meta-information ... OK * installing the package to build vignettes ----------------------------------- ERROR: dependency ‘oligo’ is not available for package ‘frma’ Perhaps try a variation of: install.packages('oligo') * removing ‘/tmp/Rtmpl1Uxnb/Rinste24636141fafd/frma’ ----------------------------------- ERROR: package installation failed