Package: frma Version: 1.59.0 Command: /Library/Frameworks/R.framework/Resources/bin/R CMD INSTALL frma StartedAt: 2025-02-18 15:13:39 -0500 (Tue, 18 Feb 2025) EndedAt: 2025-02-18 15:13:40 -0500 (Tue, 18 Feb 2025) EllapsedTime: 1.5 seconds RetCode: 1 Status: ERROR