Package: frenchFISH Version: 1.19.0 Command: E:\biocbuild\bbs-3.21-bioc\R\bin\R.exe CMD check --no-multiarch --install=check:frenchFISH.install-out.txt --library=E:\biocbuild\bbs-3.21-bioc\R\library --no-vignettes --timings frenchFISH_1.19.0.tar.gz StartedAt: 2025-02-22 01:59:05 -0500 (Sat, 22 Feb 2025) EndedAt: 2025-02-22 01:59:38 -0500 (Sat, 22 Feb 2025) EllapsedTime: 33.0 seconds RetCode: 0 Status: OK CheckDir: frenchFISH.Rcheck Warnings: 0