Package: fobitools Version: 1.15.1 Command: E:\biocbuild\bbs-3.21-bioc\R\bin\R.exe CMD INSTALL fobitools StartedAt: 2025-02-20 15:59:48 -0500 (Thu, 20 Feb 2025) EndedAt: 2025-02-20 16:00:10 -0500 (Thu, 20 Feb 2025) EllapsedTime: 21.7 seconds RetCode: 0 Status: OK