Package: fobitools Version: 1.15.1 Command: E:\biocbuild\bbs-3.21-bioc\R\bin\R.exe CMD check --no-multiarch --install=check:fobitools.install-out.txt --library=E:\biocbuild\bbs-3.21-bioc\R\library --no-vignettes --timings fobitools_1.15.1.tar.gz StartedAt: 2025-02-21 01:29:26 -0500 (Fri, 21 Feb 2025) EndedAt: 2025-02-21 01:34:18 -0500 (Fri, 21 Feb 2025) EllapsedTime: 291.9 seconds RetCode: 0 Status: OK CheckDir: fobitools.Rcheck Warnings: 0