Package: fobitools Version: 1.15.1 Command: chmod a+r fobitools -R && E:\biocbuild\bbs-3.21-bioc\R\bin\R.exe CMD build --keep-empty-dirs --no-resave-data fobitools StartedAt: 2025-02-20 18:49:34 -0500 (Thu, 20 Feb 2025) EndedAt: 2025-02-20 18:51:28 -0500 (Thu, 20 Feb 2025) EllapsedTime: 113.7 seconds RetCode: 0 Status: OK PackageFile: fobitools_1.15.1.tar.gz PackageFileSize: 3.451 MiB