Package: fobitools Version: 1.15.1 Command: /home/biocbuild/bbs-3.21-bioc/R/bin/R CMD build --keep-empty-dirs --no-resave-data fobitools StartedAt: 2025-02-20 17:29:38 -0500 (Thu, 20 Feb 2025) EndedAt: 2025-02-20 17:30:46 -0500 (Thu, 20 Feb 2025) EllapsedTime: 68.1 seconds RetCode: 0 Status: OK PackageFile: fobitools_1.15.1.tar.gz PackageFileSize: 4.939 MiB