Package: fobitools Version: 1.15.1 Command: /Library/Frameworks/R.framework/Resources/bin/R CMD check --install=check:fobitools.install-out.txt --library=/Library/Frameworks/R.framework/Resources/library --no-vignettes --timings fobitools_1.15.1.tar.gz StartedAt: 2025-02-20 20:31:03 -0500 (Thu, 20 Feb 2025) EndedAt: 2025-02-20 20:35:00 -0500 (Thu, 20 Feb 2025) EllapsedTime: 237.1 seconds RetCode: 0 Status: OK CheckDir: fobitools.Rcheck Warnings: 0