Package: fmrs Version: 1.17.0 Command: chmod a+r fmrs -R && E:\biocbuild\bbs-3.21-bioc\R\bin\R.exe CMD build --keep-empty-dirs --no-resave-data fmrs StartedAt: 2025-02-19 18:47:29 -0500 (Wed, 19 Feb 2025) EndedAt: 2025-02-19 18:48:05 -0500 (Wed, 19 Feb 2025) EllapsedTime: 35.8 seconds RetCode: 0 Status: OK PackageFile: fmrs_1.17.0.tar.gz PackageFileSize: 47.1 KiB