Package: fmrs Version: 1.17.0 Command: /Library/Frameworks/R.framework/Resources/bin/R CMD INSTALL fmrs StartedAt: 2025-02-19 15:30:31 -0500 (Wed, 19 Feb 2025) EndedAt: 2025-02-19 15:30:45 -0500 (Wed, 19 Feb 2025) EllapsedTime: 14.1 seconds RetCode: 0 Status: OK