Package: fmrs Version: 1.17.0 Command: /Library/Frameworks/R.framework/Resources/bin/R CMD build --keep-empty-dirs --no-resave-data fmrs StartedAt: 2025-02-19 16:44:06 -0500 (Wed, 19 Feb 2025) EndedAt: 2025-02-19 16:44:23 -0500 (Wed, 19 Feb 2025) EllapsedTime: 17.2 seconds RetCode: 0 Status: OK PackageFile: fmrs_1.17.0.tar.gz PackageFileSize: 46.98 KiB