Package: fmcsR Version: 1.49.0 Command: rm -rf fmcsR.buildbin-libdir && mkdir fmcsR.buildbin-libdir && E:\biocbuild\bbs-3.21-bioc\R\bin\R.exe CMD INSTALL --build --library=fmcsR.buildbin-libdir fmcsR_1.49.0.tar.gz StartedAt: 2025-02-20 07:48:55 -0500 (Thu, 20 Feb 2025) EndedAt: 2025-02-20 07:49:25 -0500 (Thu, 20 Feb 2025) EllapsedTime: 29.7 seconds RetCode: 0 Status: OK PackageFile: fmcsR_1.49.0.zip PackageFileSize: 961.4 KiB